BEGIN:VCALENDAR
VERSION:2.0
PRODID:-//シール印刷大阪府協同組合 - ECPv6.15.18//NONSGML v1.0//EN
CALSCALE:GREGORIAN
METHOD:PUBLISH
X-ORIGINAL-URL:https://www.seal.osaka.jp
X-WR-CALDESC:シール印刷大阪府協同組合 のイベント
REFRESH-INTERVAL;VALUE=DURATION:PT1H
X-Robots-Tag:noindex
X-PUBLISHED-TTL:PT1H
BEGIN:VTIMEZONE
TZID:Asia/Tokyo
BEGIN:STANDARD
TZOFFSETFROM:+0900
TZOFFSETTO:+0900
TZNAME:JST
DTSTART:20250101T000000
END:STANDARD
END:VTIMEZONE
BEGIN:VEVENT
DTSTART;TZID=Asia/Tokyo:20260310T180000
DTEND;TZID=Asia/Tokyo:20260310T200000
DTSTAMP:20260426T054324
CREATED:20260219T045846Z
LAST-MODIFIED:20260219T050638Z
UID:11070-1773165600-1773172800@www.seal.osaka.jp
SUMMARY:第4回定例役員会
DESCRIPTION:2025年度 第4回定例役員会\n日　時：2026年3月10日（火）18:00～20:00\n場　所：組合事務局（リモート会議併用）
URL:https://www.seal.osaka.jp/event/20260310meeting/
LOCATION:シール印刷大阪府協同組合\, 大阪市東成区東小橋1-14-28\, 大阪府\, 5370024\, Japan
CATEGORIES:役員会
ATTACH;FMTTYPE=image/jpeg:https://www.seal.osaka.jp/wp-content/uploads/2021/10/pasocom.jpg
ORGANIZER;CN="%E3%82%B7%E3%83%BC%E3%83%AB%E5%8D%B0%E5%88%B7%E5%A4%A7%E9%98%AA%E5%BA%9C%E5%8D%94%E5%90%8C%E7%B5%84%E5%90%88":MAILTO:spo-osaka@yacht.ocn.ne.jp
END:VEVENT
END:VCALENDAR